BEGIN:VCALENDAR
VERSION:2.0
PRODID:-//NGVM - ECPv6.15.20//NONSGML v1.0//EN
CALSCALE:GREGORIAN
METHOD:PUBLISH
X-WR-CALNAME:NGVM
X-ORIGINAL-URL:https://ngvm.nl
X-WR-CALDESC:Evenementen voor NGVM
REFRESH-INTERVAL;VALUE=DURATION:PT1H
X-Robots-Tag:noindex
X-PUBLISHED-TTL:PT1H
BEGIN:VTIMEZONE
TZID:Europe/Helsinki
BEGIN:DAYLIGHT
TZOFFSETFROM:+0200
TZOFFSETTO:+0300
TZNAME:EEST
DTSTART:20250330T010000
END:DAYLIGHT
BEGIN:STANDARD
TZOFFSETFROM:+0300
TZOFFSETTO:+0200
TZNAME:EET
DTSTART:20251026T010000
END:STANDARD
BEGIN:DAYLIGHT
TZOFFSETFROM:+0200
TZOFFSETTO:+0300
TZNAME:EEST
DTSTART:20260329T010000
END:DAYLIGHT
BEGIN:STANDARD
TZOFFSETFROM:+0300
TZOFFSETTO:+0200
TZNAME:EET
DTSTART:20261025T010000
END:STANDARD
BEGIN:DAYLIGHT
TZOFFSETFROM:+0200
TZOFFSETTO:+0300
TZNAME:EEST
DTSTART:20270328T010000
END:DAYLIGHT
BEGIN:STANDARD
TZOFFSETFROM:+0300
TZOFFSETTO:+0200
TZNAME:EET
DTSTART:20271031T010000
END:STANDARD
END:VTIMEZONE
BEGIN:VEVENT
DTSTART;TZID=Europe/Helsinki:20260705T120000
DTEND;TZID=Europe/Helsinki:20260705T170000
DTSTAMP:20260423T002228
CREATED:20260420T112635Z
LAST-MODIFIED:20260422T093344Z
UID:2410-1783252800-1783270800@ngvm.nl
SUMMARY:Wondergronds 2.0
DESCRIPTION:Wondergronds 2.0\nEen vier weken durend waarbinnen met Kunst en Kennis de wereld van de schimmels tot de verbeelding zullen spreken.\nWanneer: van woensdag 24 juni tot en met zondag 19 juli 2026\nOpeningstijden: elke woensdag t/m zondag van 12 uur tot 17 uur
URL:https://ngvm.nl/agendanoord/wondergronds-2-0-concept/
LOCATION:Brabant
CATEGORIES:Concept fase
END:VEVENT
END:VCALENDAR