BEGIN:VCALENDAR
VERSION:2.0
PRODID:-//NGVM - ECPv6.15.20//NONSGML v1.0//EN
CALSCALE:GREGORIAN
METHOD:PUBLISH
X-ORIGINAL-URL:https://ngvm.nl
X-WR-CALDESC:Evenementen voor NGVM
REFRESH-INTERVAL;VALUE=DURATION:PT1H
X-Robots-Tag:noindex
X-PUBLISHED-TTL:PT1H
BEGIN:VTIMEZONE
TZID:Europe/Helsinki
BEGIN:DAYLIGHT
TZOFFSETFROM:+0200
TZOFFSETTO:+0300
TZNAME:EEST
DTSTART:20250330T010000
END:DAYLIGHT
BEGIN:STANDARD
TZOFFSETFROM:+0300
TZOFFSETTO:+0200
TZNAME:EET
DTSTART:20251026T010000
END:STANDARD
BEGIN:DAYLIGHT
TZOFFSETFROM:+0200
TZOFFSETTO:+0300
TZNAME:EEST
DTSTART:20260329T010000
END:DAYLIGHT
BEGIN:STANDARD
TZOFFSETFROM:+0300
TZOFFSETTO:+0200
TZNAME:EET
DTSTART:20261025T010000
END:STANDARD
BEGIN:DAYLIGHT
TZOFFSETFROM:+0200
TZOFFSETTO:+0300
TZNAME:EEST
DTSTART:20270328T010000
END:DAYLIGHT
BEGIN:STANDARD
TZOFFSETFROM:+0300
TZOFFSETTO:+0200
TZNAME:EET
DTSTART:20271031T010000
END:STANDARD
END:VTIMEZONE
BEGIN:VEVENT
DTSTART;TZID=Europe/Helsinki:20260530T133000
DTEND;TZID=Europe/Helsinki:20260530T163000
DTSTAMP:20260423T005157
CREATED:20260420T112002Z
LAST-MODIFIED:20260422T092513Z
UID:2406-1780147800-1780158600@ngvm.nl
SUMMARY:Lezing & beeldpresentatie door Jan van IJken
DESCRIPTION:Afdeling NGVM-Noord is blij dat we een boeiende spreker èn fotograaf/filmmaker naar Leeuwarden wilde afreizen. Waarschijnlijk zal hij bij velen al bekend zijn.\nFotograaf / filmmaker en NGVM-lid Jan van IJken geeft op 30 mei een presentatie over zijn werk bij NGVM afdeling Noord. Hij vertelt over het begin van zijn carriere als pop- en documentair fotograaf en de overstap naar film\, met o.a. The art of flying over spreeuwenzwermen.\nOok zal hij uitgebreid vertellen over zijn projecten Becoming en Planktonium en het creatief gebruik van microscopie technieken met o.a. timelapse fotografie en focus stacking\n● Je eigen microscoop mag je thuislaten. Aanmelden is niet nodig. \n 
URL:https://ngvm.nl/agendanoord/lezing-beeldpresentatie-door-jan-van-ijken/
LOCATION:Natuurmuseum Fryslân – Weten wat er leeft\, Schoenmakersperk 2\, Leeuwarden\, Friesland\, 8911 EM\, Netherlands
CATEGORIES:Definitief, gaat door !
END:VEVENT
BEGIN:VEVENT
DTSTART;TZID=Europe/Helsinki:20260606T100000
DTEND;TZID=Europe/Helsinki:20260606T200000
DTSTAMP:20260423T005157
CREATED:20260422T100243Z
LAST-MODIFIED:20260422T100243Z
UID:2451-1780740000-1780776000@ngvm.nl
SUMMARY:Landelijke Vennendag
DESCRIPTION: (leden NGVM) Opgave: zie je e-mail 29-03-2026 of zoek op  “microscopiedag”  in je e-mail \nZaterdag 6 juni 2026 Microscopiedag in Brabant\, Valkenswaard. Vennendag.\nVoor leden van KNNV\, NGVM en KAGM \nLocatie: Het Wandelpark\, Eindhovenseweg 264\, Valkenswaard. \nDe microscopie-dag gaat volgens dezelfde formule als voorgaande jaren omdat het een beproefd concept is gebleken.\nOver de locatie waren we zeer tevreden\, een goede reden om niet te veranderen\, we kunnen er weer terecht op zaterdag 6 juni. Welk water we gaan bemonsteren wordt bepaald door de staat waarin de vennen verkeren. Mensen die wat moeilijker ter been zijn kunnen ook vlakbij een monster nemen of de monstername overslaan\, dan breng ik voor hen wat venwater mee. \nDe afstand is wel groot maar ik hoop toch ook leden van Noord te ontmoeten. Misschien een weekendje Brabant? \nLeden die zich aanmelden voor deze dag krijgen eind mei een mail.
URL:https://ngvm.nl/agendanoord/landelijke-vennendag/
LOCATION:Wandelpark\, Eindhovenseweg 264\, Valkenswaard\, Brabant\, 5553 AA\, Netherlands
CATEGORIES:Definitief, gaat door !
END:VEVENT
END:VCALENDAR