BEGIN:VCALENDAR
VERSION:2.0
PRODID:-//NGVM - ECPv6.15.20//NONSGML v1.0//EN
CALSCALE:GREGORIAN
METHOD:PUBLISH
X-WR-CALNAME:NGVM
X-ORIGINAL-URL:https://ngvm.nl
X-WR-CALDESC:Evenementen voor NGVM
REFRESH-INTERVAL;VALUE=DURATION:PT1H
X-Robots-Tag:noindex
X-PUBLISHED-TTL:PT1H
BEGIN:VTIMEZONE
TZID:Europe/Helsinki
BEGIN:DAYLIGHT
TZOFFSETFROM:+0200
TZOFFSETTO:+0300
TZNAME:EEST
DTSTART:20250330T010000
END:DAYLIGHT
BEGIN:STANDARD
TZOFFSETFROM:+0300
TZOFFSETTO:+0200
TZNAME:EET
DTSTART:20251026T010000
END:STANDARD
BEGIN:DAYLIGHT
TZOFFSETFROM:+0200
TZOFFSETTO:+0300
TZNAME:EEST
DTSTART:20260329T010000
END:DAYLIGHT
BEGIN:STANDARD
TZOFFSETFROM:+0300
TZOFFSETTO:+0200
TZNAME:EET
DTSTART:20261025T010000
END:STANDARD
BEGIN:DAYLIGHT
TZOFFSETFROM:+0200
TZOFFSETTO:+0300
TZNAME:EEST
DTSTART:20270328T010000
END:DAYLIGHT
BEGIN:STANDARD
TZOFFSETFROM:+0300
TZOFFSETTO:+0200
TZNAME:EET
DTSTART:20271031T010000
END:STANDARD
END:VTIMEZONE
BEGIN:VEVENT
DTSTART;TZID=Europe/Helsinki:20260815T110000
DTEND;TZID=Europe/Helsinki:20260815T160000
DTSTAMP:20260423T014502
CREATED:20260420T113355Z
LAST-MODIFIED:20260422T093329Z
UID:2414-1786791600-1786809600@ngvm.nl
SUMMARY:Publieksdag Lauwersnest
DESCRIPTION:Wordt nog ontwikkeld  !\nMaar verwacht format: ‘iets met microscopie bij de waddenkust’\nLet op ! De datum nog onbekend\, maar verwacht eind augustus of begin september
URL:https://ngvm.nl/agendanoord/publieksdag-lauwersnest-concept/
LOCATION:Activiteitencentrum Lauwersnest\, De Rug 1\, Lauwersoog\, Groningen\, 9976 VT\, Netherlands
CATEGORIES:Concept fase
END:VEVENT
BEGIN:VEVENT
DTSTART;TZID=Europe/Helsinki:20261015T110000
DTEND;TZID=Europe/Helsinki:20261015T210000
DTSTAMP:20260423T014502
CREATED:20260420T114601Z
LAST-MODIFIED:20260422T093310Z
UID:2422-1792062000-1792098000@ngvm.nl
SUMMARY:Excursie Gorsselse heide
DESCRIPTION:Dag programma. Details volgen. Datum nog niet definitief! \nMaar denk aan\, rondleiding door omgeving \, lezing langjarig onderzoek\, en microscopie van monsters genomen aldaar. \nDe dynamiek van twee vennetjes op de Gorsselse heide\nBeschreven aan de hand van sieralgen en kiezelwieren
URL:https://ngvm.nl/agendanoord/excursie-gorsselse-heide-concept/
LOCATION:Locatie volgt !
CATEGORIES:Concept fase
END:VEVENT
BEGIN:VEVENT
DTSTART;TZID=Europe/Helsinki:20261212T143000
DTEND;TZID=Europe/Helsinki:20261212T173000
DTSTAMP:20260423T014502
CREATED:20260420T114013Z
LAST-MODIFIED:20260422T093406Z
UID:2418-1797085800-1797096600@ngvm.nl
SUMMARY:Lezing (+ activiteit) Jaap Beuken
DESCRIPTION:Jaap Beuker (73)\, oud-conservator van het Drents Museum en internationaal erkend vuursteenspecialist\, heeft met tientallen jaren veldwerk en materiaalonderzoek aangetoond dat vuursteen van het Duitse eiland Helgoland grootschalig door heel Europa werd verhandeld. Zijn nieuwste boek\, Heligoland Flint in Prehistoric Europe (samen met Erik Drenth\, Klaus Hirsch\, Moritz Mennenga en Martin Segschneider)\, bundelt 42 jaar onderzoek en presenteert typologieën\, verspreidingskaarten en herkomstanalyses van Helgoland-vuursteen. \n\nMeer informatie volgt in het najaar !
URL:https://ngvm.nl/agendanoord/lezing-activiteit-jaap-van-beuken-concept-op-hoofdlijnen-al-ok/
LOCATION:Locatie volgt !
CATEGORIES:Concept fase
END:VEVENT
END:VCALENDAR