BEGIN:VCALENDAR
VERSION:2.0
PRODID:-//NGVM - ECPv6.15.20//NONSGML v1.0//EN
CALSCALE:GREGORIAN
METHOD:PUBLISH
X-WR-CALNAME:NGVM
X-ORIGINAL-URL:https://ngvm.nl
X-WR-CALDESC:Evenementen voor NGVM
REFRESH-INTERVAL;VALUE=DURATION:PT1H
X-Robots-Tag:noindex
X-PUBLISHED-TTL:PT1H
BEGIN:VTIMEZONE
TZID:Europe/Helsinki
BEGIN:DAYLIGHT
TZOFFSETFROM:+0200
TZOFFSETTO:+0300
TZNAME:EEST
DTSTART:20250330T010000
END:DAYLIGHT
BEGIN:STANDARD
TZOFFSETFROM:+0300
TZOFFSETTO:+0200
TZNAME:EET
DTSTART:20251026T010000
END:STANDARD
BEGIN:DAYLIGHT
TZOFFSETFROM:+0200
TZOFFSETTO:+0300
TZNAME:EEST
DTSTART:20260329T010000
END:DAYLIGHT
BEGIN:STANDARD
TZOFFSETFROM:+0300
TZOFFSETTO:+0200
TZNAME:EET
DTSTART:20261025T010000
END:STANDARD
BEGIN:DAYLIGHT
TZOFFSETFROM:+0200
TZOFFSETTO:+0300
TZNAME:EEST
DTSTART:20270328T010000
END:DAYLIGHT
BEGIN:STANDARD
TZOFFSETFROM:+0300
TZOFFSETTO:+0200
TZNAME:EET
DTSTART:20271031T010000
END:STANDARD
END:VTIMEZONE
BEGIN:VEVENT
DTSTART;TZID=Europe/Helsinki:20260425T133000
DTEND;TZID=Europe/Helsinki:20260425T163000
DTSTAMP:20260420T163252
CREATED:20260101T100035Z
LAST-MODIFIED:20260420T131748Z
UID:2385-1777123800-1777134600@ngvm.nl
SUMMARY:Test Event No 01
DESCRIPTION:Bla bla bla om te testen No01\nBla bla bla om te testen No01\nBla bla bla om te testen No01 \nTest plaatje
URL:https://ngvm.nl/agendanoord/test-event-no-01/
LOCATION:Stichting Le Roy Groningen\, Overloop 5\, Groningen\, Groningen\, 9732 HZ\, Netherlands
ATTACH;FMTTYPE=image/png:https://ngvm.nl/wp-content/uploads/2026/03/Storing.png
END:VEVENT
BEGIN:VEVENT
DTSTART;TZID=Europe/Helsinki:20260430T133000
DTEND;TZID=Europe/Helsinki:20260430T163000
DTSTAMP:20260420T163252
CREATED:20260101T100044Z
LAST-MODIFIED:20260420T130644Z
UID:2394-1777555800-1777566600@ngvm.nl
SUMMARY:Test Event No 02
DESCRIPTION:Bla bla bla om te testen No02\nBla bla bla om te testen No02\nBla bla bla om te testen No02
URL:https://ngvm.nl/agendanoord/test-event-no-02/
LOCATION:Natuurmuseum Fryslân – Weten wat er leeft\, Schoenmakersperk 2\, Leeuwarden\, Friesland\, 8911 EM\, Netherlands
END:VEVENT
BEGIN:VEVENT
DTSTART;TZID=Europe/Helsinki:20260530T133000
DTEND;TZID=Europe/Helsinki:20260530T163000
DTSTAMP:20260420T163252
CREATED:20260420T112002Z
LAST-MODIFIED:20260420T131037Z
UID:2406-1780147800-1780158600@ngvm.nl
SUMMARY:Lezing & beeldpresentatie door Jan van IJken
DESCRIPTION:Afdeling NGVM-Noord is blij dat we een boeiende spreker èn fotograaf/filmmaker naar Leeuwarden wilde afreizen. Waarschijnlijk zal hij bij velen al bekend zijn.\nFotograaf / filmmaker en NGVM-lid Jan van IJken geeft op 30 mei een presentatie over zijn werk bij NGVM afdeling Noord. Hij vertelt over het begin van zijn carriere als pop- en documentair fotograaf en de overstap naar film\, met o.a. The art of flying over spreeuwenzwermen. Ook zal hij uitgebreid vertellen over zijn projecten Becoming en Planktonium en het creatief gebruik van microscopie technieken met o.a. timelapse fotografie en focus stacking\n● Je eigen microscoop mag je thuislaten. Aanmelden is niet nodig. \nPlanktonium – Short film and photo series about the unseen world of living microscopic planktonCoscinodiscus Sp. (diatom)Photo Jan van IJken\n 
URL:https://ngvm.nl/agendanoord/lezing-beeldpresentatie-door-jan-van-ijken/
LOCATION:Natuurmuseum Fryslân – Weten wat er leeft\, Schoenmakersperk 2\, Leeuwarden\, Friesland\, 8911 EM\, Netherlands
CATEGORIES:Definitief, gaat door !
END:VEVENT
BEGIN:VEVENT
DTSTART;TZID=Europe/Helsinki:20260705T120000
DTEND;TZID=Europe/Helsinki:20260705T170000
DTSTAMP:20260420T163252
CREATED:20260420T112635Z
LAST-MODIFIED:20260420T130607Z
UID:2410-1783252800-1783270800@ngvm.nl
SUMMARY:Wondergronds 2.0 (CONCEPT !)
DESCRIPTION:Wondergronds 2.0\nEen vier weken durend waarbinnen met Kunst en Kennis de wereld van de schimmels tot de verbeelding zullen spreken.\nWanneer: van woensdag 24 juni tot en met zondag 19 juli 2026\nOpeningstijden: elke woensdag t/m zondag van 12 uur tot 17 uur
URL:https://ngvm.nl/agendanoord/wondergronds-2-0-concept/
END:VEVENT
BEGIN:VEVENT
DTSTART;TZID=Europe/Helsinki:20260815T110000
DTEND;TZID=Europe/Helsinki:20260815T160000
DTSTAMP:20260420T163252
CREATED:20260420T113355Z
LAST-MODIFIED:20260420T130548Z
UID:2414-1786791600-1786809600@ngvm.nl
SUMMARY:Publieksdag Lauwersnest (CONCEPT!)
DESCRIPTION:Wordt nog ontwikkeld  !\nMaar verwacht format: ‘iets met microscopie bij de waddenkust’\nLet op ! De datum nog onbekend\, maar verwacht eind augustus of begin september
URL:https://ngvm.nl/agendanoord/publieksdag-lauwersnest-concept/
LOCATION:Activiteitencentrum Lauwersnest\, De Rug 1\, Lauwersoog\, Groningen\, 9976 VT\, Netherlands
END:VEVENT
BEGIN:VEVENT
DTSTART;TZID=Europe/Helsinki:20261015T110000
DTEND;TZID=Europe/Helsinki:20261015T210000
DTSTAMP:20260420T163252
CREATED:20260420T114601Z
LAST-MODIFIED:20260420T130522Z
UID:2422-1792062000-1792098000@ngvm.nl
SUMMARY:Excursie Gorsselse heide (CONCEPT)
DESCRIPTION:Dag programma. Details volgen. Datum nog niet definitief! \nMaar denk aan\, rondleiding door omgeving \, lezing langjarig onderzoek\, en microscopie van monsters genomen aldaar. \nDe dynamiek van twee vennetjes op de Gorsselse heide\nBeschreven aan de hand van sieralgen en kiezelwieren
URL:https://ngvm.nl/agendanoord/excursie-gorsselse-heide-concept/
LOCATION:Locatie volgt !
END:VEVENT
BEGIN:VEVENT
DTSTART;TZID=Europe/Helsinki:20261212T143000
DTEND;TZID=Europe/Helsinki:20261212T173000
DTSTAMP:20260420T163252
CREATED:20260420T114013Z
LAST-MODIFIED:20260420T130459Z
UID:2418-1797085800-1797096600@ngvm.nl
SUMMARY:Lezing (+ activiteit) Jaap Beuken (CONCEPT)
DESCRIPTION:Jaap Beuker (73)\, oud-conservator van het Drents Museum en internationaal erkend vuursteenspecialist\, heeft met tientallen jaren veldwerk en materiaalonderzoek aangetoond dat vuursteen van het Duitse eiland Helgoland grootschalig door heel Europa werd verhandeld. Zijn nieuwste boek\, Heligoland Flint in Prehistoric Europe (samen met Erik Drenth\, Klaus Hirsch\, Moritz Mennenga en Martin Segschneider)\, bundelt 42 jaar onderzoek en presenteert typologieën\, verspreidingskaarten en herkomstanalyses van Helgoland-vuursteen. \n\nMeer informatie volgt in het najaar !
URL:https://ngvm.nl/agendanoord/lezing-activiteit-jaap-van-beuken-concept-op-hoofdlijnen-al-ok/
LOCATION:Locatie volgt !
END:VEVENT
END:VCALENDAR